BEGIN:VCALENDAR
VERSION:2.0
PRODID:-//Rijnlands Lyceum Wassenaar - ECPv6.15.20//NONSGML v1.0//EN
CALSCALE:GREGORIAN
METHOD:PUBLISH
X-WR-CALNAME:Rijnlands Lyceum Wassenaar
X-ORIGINAL-URL:https://rijnlandslyceumwassenaar.nl
X-WR-CALDESC:Evenementen voor Rijnlands Lyceum Wassenaar
REFRESH-INTERVAL;VALUE=DURATION:PT1H
X-Robots-Tag:noindex
X-PUBLISHED-TTL:PT1H
BEGIN:VTIMEZONE
TZID:Europe/Amsterdam
BEGIN:DAYLIGHT
TZOFFSETFROM:+0100
TZOFFSETTO:+0200
TZNAME:CEST
DTSTART:20240331T010000
END:DAYLIGHT
BEGIN:STANDARD
TZOFFSETFROM:+0200
TZOFFSETTO:+0100
TZNAME:CET
DTSTART:20241027T010000
END:STANDARD
BEGIN:DAYLIGHT
TZOFFSETFROM:+0100
TZOFFSETTO:+0200
TZNAME:CEST
DTSTART:20250330T010000
END:DAYLIGHT
BEGIN:STANDARD
TZOFFSETFROM:+0200
TZOFFSETTO:+0100
TZNAME:CET
DTSTART:20251026T010000
END:STANDARD
BEGIN:DAYLIGHT
TZOFFSETFROM:+0100
TZOFFSETTO:+0200
TZNAME:CEST
DTSTART:20260329T010000
END:DAYLIGHT
BEGIN:STANDARD
TZOFFSETFROM:+0200
TZOFFSETTO:+0100
TZNAME:CET
DTSTART:20261025T010000
END:STANDARD
END:VTIMEZONE
BEGIN:VEVENT
DTSTART;TZID=Europe/Amsterdam:20250912T000000
DTEND;TZID=Europe/Amsterdam:20250912T235959
DTSTAMP:20260421T052415
CREATED:20250904T101149Z
LAST-MODIFIED:20250904T101256Z
UID:1955-1757635200-1757721599@rijnlandslyceumwassenaar.nl
SUMMARY:Brugklas - vlietlanden
DESCRIPTION:Brugklas & MYP2
URL:https://rijnlandslyceumwassenaar.nl/agenda/brugklas-vlietlanden/
END:VEVENT
BEGIN:VEVENT
DTSTART;TZID=Europe/Amsterdam:20250912T000000
DTEND;TZID=Europe/Amsterdam:20250912T235959
DTSTAMP:20260421T052415
CREATED:20250904T101624Z
LAST-MODIFIED:20250904T101641Z
UID:1959-1757635200-1757721599@rijnlandslyceumwassenaar.nl
SUMMARY:4 havo/vwo - introdag
DESCRIPTION:1e t/m 3 uur les\, vanaf 4e uur in toneelzaal/strand
URL:https://rijnlandslyceumwassenaar.nl/agenda/4-havo-vwo-introdag/
END:VEVENT
END:VCALENDAR