BEGIN:VCALENDAR
VERSION:2.0
PRODID:-//Rijnlands Lyceum Wassenaar - ECPv6.15.20//NONSGML v1.0//EN
CALSCALE:GREGORIAN
METHOD:PUBLISH
X-ORIGINAL-URL:https://rijnlandslyceumwassenaar.nl
X-WR-CALDESC:Evenementen voor Rijnlands Lyceum Wassenaar
REFRESH-INTERVAL;VALUE=DURATION:PT1H
X-Robots-Tag:noindex
X-PUBLISHED-TTL:PT1H
BEGIN:VTIMEZONE
TZID:Europe/Amsterdam
BEGIN:DAYLIGHT
TZOFFSETFROM:+0100
TZOFFSETTO:+0200
TZNAME:CEST
DTSTART:20240331T010000
END:DAYLIGHT
BEGIN:STANDARD
TZOFFSETFROM:+0200
TZOFFSETTO:+0100
TZNAME:CET
DTSTART:20241027T010000
END:STANDARD
BEGIN:DAYLIGHT
TZOFFSETFROM:+0100
TZOFFSETTO:+0200
TZNAME:CEST
DTSTART:20250330T010000
END:DAYLIGHT
BEGIN:STANDARD
TZOFFSETFROM:+0200
TZOFFSETTO:+0100
TZNAME:CET
DTSTART:20251026T010000
END:STANDARD
BEGIN:DAYLIGHT
TZOFFSETFROM:+0100
TZOFFSETTO:+0200
TZNAME:CEST
DTSTART:20260329T010000
END:DAYLIGHT
BEGIN:STANDARD
TZOFFSETFROM:+0200
TZOFFSETTO:+0100
TZNAME:CET
DTSTART:20261025T010000
END:STANDARD
END:VTIMEZONE
BEGIN:VEVENT
DTSTART;TZID=Europe/Amsterdam:20251119T000000
DTEND;TZID=Europe/Amsterdam:20251121T235959
DTSTAMP:20260421T024432
CREATED:20250905T140452Z
LAST-MODIFIED:20251101T143329Z
UID:2364-1763510400-1763769599@rijnlandslyceumwassenaar.nl
SUMMARY:4H - Model European Parliament
DESCRIPTION:
URL:https://rijnlandslyceumwassenaar.nl/agenda/4-havo-model-european-parliament/
END:VEVENT
BEGIN:VEVENT
DTSTART;TZID=Europe/Amsterdam:20251120T120000
DTEND;TZID=Europe/Amsterdam:20251120T160000
DTSTAMP:20260421T024432
CREATED:20250905T140711Z
LAST-MODIFIED:20251101T143336Z
UID:2378-1763640000-1763654400@rijnlandslyceumwassenaar.nl
SUMMARY:Groep 8 - Veni\, Vidi\, Vici
DESCRIPTION:
URL:https://rijnlandslyceumwassenaar.nl/agenda/groep-8-veni-vidi-vici-4/
END:VEVENT
BEGIN:VEVENT
DTSTART;TZID=Europe/Amsterdam:20251120T160000
DTEND;TZID=Europe/Amsterdam:20251120T183000
DTSTAMP:20260421T024432
CREATED:20250905T140942Z
LAST-MODIFIED:20251101T143624Z
UID:2388-1763654400-1763663400@rijnlandslyceumwassenaar.nl
SUMMARY:Pub quiz TTO 6\, DP2
DESCRIPTION:
URL:https://rijnlandslyceumwassenaar.nl/agenda/pub-quiz/
END:VEVENT
END:VCALENDAR