BEGIN:VCALENDAR
VERSION:2.0
PRODID:-//Rijnlands Lyceum Wassenaar - ECPv6.15.20//NONSGML v1.0//EN
CALSCALE:GREGORIAN
METHOD:PUBLISH
X-WR-CALNAME:Rijnlands Lyceum Wassenaar
X-ORIGINAL-URL:https://rijnlandslyceumwassenaar.nl
X-WR-CALDESC:Evenementen voor Rijnlands Lyceum Wassenaar
REFRESH-INTERVAL;VALUE=DURATION:PT1H
X-Robots-Tag:noindex
X-PUBLISHED-TTL:PT1H
BEGIN:VTIMEZONE
TZID:Europe/Amsterdam
BEGIN:DAYLIGHT
TZOFFSETFROM:+0100
TZOFFSETTO:+0200
TZNAME:CEST
DTSTART:20240331T010000
END:DAYLIGHT
BEGIN:STANDARD
TZOFFSETFROM:+0200
TZOFFSETTO:+0100
TZNAME:CET
DTSTART:20241027T010000
END:STANDARD
BEGIN:DAYLIGHT
TZOFFSETFROM:+0100
TZOFFSETTO:+0200
TZNAME:CEST
DTSTART:20250330T010000
END:DAYLIGHT
BEGIN:STANDARD
TZOFFSETFROM:+0200
TZOFFSETTO:+0100
TZNAME:CET
DTSTART:20251026T010000
END:STANDARD
BEGIN:DAYLIGHT
TZOFFSETFROM:+0100
TZOFFSETTO:+0200
TZNAME:CEST
DTSTART:20260329T010000
END:DAYLIGHT
BEGIN:STANDARD
TZOFFSETFROM:+0200
TZOFFSETTO:+0100
TZNAME:CET
DTSTART:20261025T010000
END:STANDARD
END:VTIMEZONE
BEGIN:VEVENT
DTSTART;TZID=Europe/Amsterdam:20251127T120000
DTEND;TZID=Europe/Amsterdam:20251127T160000
DTSTAMP:20260421T024317
CREATED:20250905T141637Z
LAST-MODIFIED:20251101T143758Z
UID:2395-1764244800-1764259200@rijnlandslyceumwassenaar.nl
SUMMARY:Groep 8 - Veni\, Vidi\, Vici
DESCRIPTION:
URL:https://rijnlandslyceumwassenaar.nl/agenda/groep-8-veni-vidi-vici-5/
END:VEVENT
BEGIN:VEVENT
DTSTART;TZID=Europe/Amsterdam:20251127T180000
DTEND;TZID=Europe/Amsterdam:20251127T213000
DTSTAMP:20260421T024317
CREATED:20250905T141453Z
LAST-MODIFIED:20251106T115258Z
UID:2392-1764266400-1764279000@rijnlandslyceumwassenaar.nl
SUMMARY:Driehoeksgesprekken - bovenbouw
DESCRIPTION:
URL:https://rijnlandslyceumwassenaar.nl/agenda/driehoeksgesprekken-bovenbouw/
END:VEVENT
END:VCALENDAR