BEGIN:VCALENDAR
VERSION:2.0
PRODID:-//Rijnlands Lyceum Wassenaar - ECPv6.15.20//NONSGML v1.0//EN
CALSCALE:GREGORIAN
METHOD:PUBLISH
X-ORIGINAL-URL:https://rijnlandslyceumwassenaar.nl
X-WR-CALDESC:Evenementen voor Rijnlands Lyceum Wassenaar
REFRESH-INTERVAL;VALUE=DURATION:PT1H
X-Robots-Tag:noindex
X-PUBLISHED-TTL:PT1H
BEGIN:VTIMEZONE
TZID:Europe/Amsterdam
BEGIN:DAYLIGHT
TZOFFSETFROM:+0100
TZOFFSETTO:+0200
TZNAME:CEST
DTSTART:20240331T010000
END:DAYLIGHT
BEGIN:STANDARD
TZOFFSETFROM:+0200
TZOFFSETTO:+0100
TZNAME:CET
DTSTART:20241027T010000
END:STANDARD
BEGIN:DAYLIGHT
TZOFFSETFROM:+0100
TZOFFSETTO:+0200
TZNAME:CEST
DTSTART:20250330T010000
END:DAYLIGHT
BEGIN:STANDARD
TZOFFSETFROM:+0200
TZOFFSETTO:+0100
TZNAME:CET
DTSTART:20251026T010000
END:STANDARD
BEGIN:DAYLIGHT
TZOFFSETFROM:+0100
TZOFFSETTO:+0200
TZNAME:CEST
DTSTART:20260329T010000
END:DAYLIGHT
BEGIN:STANDARD
TZOFFSETFROM:+0200
TZOFFSETTO:+0100
TZNAME:CET
DTSTART:20261025T010000
END:STANDARD
END:VTIMEZONE
BEGIN:VEVENT
DTSTART;TZID=Europe/Amsterdam:20251203T000000
DTEND;TZID=Europe/Amsterdam:20251205T235959
DTSTAMP:20260421T012606
CREATED:20250905T141848Z
LAST-MODIFIED:20251101T143836Z
UID:2397-1764720000-1764979199@rijnlandslyceumwassenaar.nl
SUMMARY:Verkort lesrooster
DESCRIPTION:
URL:https://rijnlandslyceumwassenaar.nl/agenda/verkort-lesrooster/
END:VEVENT
BEGIN:VEVENT
DTSTART;TZID=Europe/Amsterdam:20251204T105500
DTEND;TZID=Europe/Amsterdam:20251204T125500
DTSTAMP:20260421T012606
CREATED:20251124T130534Z
LAST-MODIFIED:20251124T132136Z
UID:3781-1764845700-1764852900@rijnlandslyceumwassenaar.nl
SUMMARY:lezing Erna Sassen
DESCRIPTION:Voor alle 3e klassen en MYP4
URL:https://rijnlandslyceumwassenaar.nl/agenda/lezing-erna-sassen/
END:VEVENT
BEGIN:VEVENT
DTSTART;TZID=Europe/Amsterdam:20251204T123000
DTEND;TZID=Europe/Amsterdam:20251204T160000
DTSTAMP:20260421T012606
CREATED:20250905T142027Z
LAST-MODIFIED:20251202T132443Z
UID:2399-1764851400-1764864000@rijnlandslyceumwassenaar.nl
SUMMARY:groep 8 - Veni\, Vidi\, Vici
DESCRIPTION:
URL:https://rijnlandslyceumwassenaar.nl/agenda/groep-8-veni-vidi-vici-6/
END:VEVENT
BEGIN:VEVENT
DTSTART;TZID=Europe/Amsterdam:20251204T130000
DTEND;TZID=Europe/Amsterdam:20251204T153000
DTSTAMP:20260421T012606
CREATED:20251016T080451Z
LAST-MODIFIED:20251016T080453Z
UID:3625-1764853200-1764862200@rijnlandslyceumwassenaar.nl
SUMMARY:rapportvergaderingen (intern 1c\, 1d\, 2)
DESCRIPTION:
URL:https://rijnlandslyceumwassenaar.nl/agenda/rapportvergaderingen-intern-1c-1d-2/
END:VEVENT
END:VCALENDAR