BEGIN:VCALENDAR
VERSION:2.0
PRODID:-//Rijnlands Lyceum Wassenaar - ECPv6.15.20//NONSGML v1.0//EN
CALSCALE:GREGORIAN
METHOD:PUBLISH
X-ORIGINAL-URL:https://rijnlandslyceumwassenaar.nl
X-WR-CALDESC:Evenementen voor Rijnlands Lyceum Wassenaar
REFRESH-INTERVAL;VALUE=DURATION:PT1H
X-Robots-Tag:noindex
X-PUBLISHED-TTL:PT1H
BEGIN:VTIMEZONE
TZID:Europe/Amsterdam
BEGIN:DAYLIGHT
TZOFFSETFROM:+0100
TZOFFSETTO:+0200
TZNAME:CEST
DTSTART:20240331T010000
END:DAYLIGHT
BEGIN:STANDARD
TZOFFSETFROM:+0200
TZOFFSETTO:+0100
TZNAME:CET
DTSTART:20241027T010000
END:STANDARD
BEGIN:DAYLIGHT
TZOFFSETFROM:+0100
TZOFFSETTO:+0200
TZNAME:CEST
DTSTART:20250330T010000
END:DAYLIGHT
BEGIN:STANDARD
TZOFFSETFROM:+0200
TZOFFSETTO:+0100
TZNAME:CET
DTSTART:20251026T010000
END:STANDARD
BEGIN:DAYLIGHT
TZOFFSETFROM:+0100
TZOFFSETTO:+0200
TZNAME:CEST
DTSTART:20260329T010000
END:DAYLIGHT
BEGIN:STANDARD
TZOFFSETFROM:+0200
TZOFFSETTO:+0100
TZNAME:CET
DTSTART:20261025T010000
END:STANDARD
END:VTIMEZONE
BEGIN:VEVENT
DTSTART;TZID=Europe/Amsterdam:20251208T000000
DTEND;TZID=Europe/Amsterdam:20251210T235959
DTSTAMP:20260421T011141
CREATED:20250905T142511Z
LAST-MODIFIED:20250905T142527Z
UID:2405-1765152000-1765411199@rijnlandslyceumwassenaar.nl
SUMMARY:verkort lesrooster
DESCRIPTION:
URL:https://rijnlandslyceumwassenaar.nl/agenda/verkort-lesrooster-2/
END:VEVENT
BEGIN:VEVENT
DTSTART;TZID=Europe/Amsterdam:20251210T083000
DTEND;TZID=Europe/Amsterdam:20251210T160000
DTSTAMP:20260421T011141
CREATED:20250905T143106Z
LAST-MODIFIED:20251202T133532Z
UID:2411-1765355400-1765382400@rijnlandslyceumwassenaar.nl
SUMMARY:leerjaar 2 & 2 tto - Phileas Fogg
DESCRIPTION:
URL:https://rijnlandslyceumwassenaar.nl/agenda/leerjaar-2-2-tto-phileas-fogg-3/
END:VEVENT
BEGIN:VEVENT
DTSTART;TZID=Europe/Amsterdam:20251210T130000
DTEND;TZID=Europe/Amsterdam:20251210T151500
DTSTAMP:20260421T011141
CREATED:20251016T083250Z
LAST-MODIFIED:20251016T083252Z
UID:3631-1765371600-1765379700@rijnlandslyceumwassenaar.nl
SUMMARY:rapportvergaderingen (intern g3a\, a3a\, a3b)
DESCRIPTION:
URL:https://rijnlandslyceumwassenaar.nl/agenda/rapportvergaderingen-intern-g3a-a3a-a3b/
END:VEVENT
BEGIN:VEVENT
DTSTART;TZID=Europe/Amsterdam:20251210T130000
DTEND;TZID=Europe/Amsterdam:20251210T170000
DTSTAMP:20260421T011141
CREATED:20250905T143233Z
LAST-MODIFIED:20251202T133643Z
UID:2413-1765371600-1765386000@rijnlandslyceumwassenaar.nl
SUMMARY:groep 8 - kunstmiddag
DESCRIPTION:
URL:https://rijnlandslyceumwassenaar.nl/agenda/groep-8-kunstmiddag/
END:VEVENT
END:VCALENDAR