BEGIN:VCALENDAR
VERSION:2.0
PRODID:-//Rijnlands Lyceum Wassenaar - ECPv6.15.20//NONSGML v1.0//EN
CALSCALE:GREGORIAN
METHOD:PUBLISH
X-ORIGINAL-URL:https://rijnlandslyceumwassenaar.nl
X-WR-CALDESC:Evenementen voor Rijnlands Lyceum Wassenaar
REFRESH-INTERVAL;VALUE=DURATION:PT1H
X-Robots-Tag:noindex
X-PUBLISHED-TTL:PT1H
BEGIN:VTIMEZONE
TZID:Europe/Amsterdam
BEGIN:DAYLIGHT
TZOFFSETFROM:+0100
TZOFFSETTO:+0200
TZNAME:CEST
DTSTART:20240331T010000
END:DAYLIGHT
BEGIN:STANDARD
TZOFFSETFROM:+0200
TZOFFSETTO:+0100
TZNAME:CET
DTSTART:20241027T010000
END:STANDARD
BEGIN:DAYLIGHT
TZOFFSETFROM:+0100
TZOFFSETTO:+0200
TZNAME:CEST
DTSTART:20250330T010000
END:DAYLIGHT
BEGIN:STANDARD
TZOFFSETFROM:+0200
TZOFFSETTO:+0100
TZNAME:CET
DTSTART:20251026T010000
END:STANDARD
BEGIN:DAYLIGHT
TZOFFSETFROM:+0100
TZOFFSETTO:+0200
TZNAME:CEST
DTSTART:20260329T010000
END:DAYLIGHT
BEGIN:STANDARD
TZOFFSETFROM:+0200
TZOFFSETTO:+0100
TZNAME:CET
DTSTART:20261025T010000
END:STANDARD
END:VTIMEZONE
BEGIN:VEVENT
DTSTART;TZID=Europe/Amsterdam:20251215T000000
DTEND;TZID=Europe/Amsterdam:20251217T235959
DTSTAMP:20260421T011146
CREATED:20251009T090930Z
LAST-MODIFIED:20251009T090930Z
UID:3592-1765756800-1766015999@rijnlandslyceumwassenaar.nl
SUMMARY:6VWO excursie Munchen
DESCRIPTION:
URL:https://rijnlandslyceumwassenaar.nl/agenda/6vwo-excursie-munchen/
END:VEVENT
BEGIN:VEVENT
DTSTART;TZID=Europe/Amsterdam:20251215T080000
DTEND;TZID=Europe/Amsterdam:20251215T083000
DTSTAMP:20260421T011146
CREATED:20250905T144203Z
LAST-MODIFIED:20251202T133906Z
UID:2426-1765785600-1765787400@rijnlandslyceumwassenaar.nl
SUMMARY:start trimester 2
DESCRIPTION:
URL:https://rijnlandslyceumwassenaar.nl/agenda/start-trimester-2/
END:VEVENT
BEGIN:VEVENT
DTSTART;TZID=Europe/Amsterdam:20251215T104500
DTEND;TZID=Europe/Amsterdam:20251215T161500
DTSTAMP:20260421T011146
CREATED:20251215T094810Z
LAST-MODIFIED:20251215T094810Z
UID:3900-1765795500-1765815300@rijnlandslyceumwassenaar.nl
SUMMARY:H5 en V6 aardrijkskunde excursie schilderswijk den haag
DESCRIPTION:
URL:https://rijnlandslyceumwassenaar.nl/agenda/h5-en-v6-aardrijkskunde-excursie-schilderswijk-den-haag/
END:VEVENT
BEGIN:VEVENT
DTSTART;TZID=Europe/Amsterdam:20251215T180000
DTEND;TZID=Europe/Amsterdam:20251215T200000
DTSTAMP:20260421T011146
CREATED:20250905T144352Z
LAST-MODIFIED:20250905T144411Z
UID:2428-1765821600-1765828800@rijnlandslyceumwassenaar.nl
SUMMARY:gmr-vergadering (2)
DESCRIPTION:
URL:https://rijnlandslyceumwassenaar.nl/agenda/gmr-vergadering-2/
END:VEVENT
END:VCALENDAR