BEGIN:VCALENDAR
VERSION:2.0
PRODID:-//Rijnlands Lyceum Wassenaar - ECPv6.15.20//NONSGML v1.0//EN
CALSCALE:GREGORIAN
METHOD:PUBLISH
X-WR-CALNAME:Rijnlands Lyceum Wassenaar
X-ORIGINAL-URL:https://rijnlandslyceumwassenaar.nl
X-WR-CALDESC:Evenementen voor Rijnlands Lyceum Wassenaar
REFRESH-INTERVAL;VALUE=DURATION:PT1H
X-Robots-Tag:noindex
X-PUBLISHED-TTL:PT1H
BEGIN:VTIMEZONE
TZID:Europe/Amsterdam
BEGIN:DAYLIGHT
TZOFFSETFROM:+0100
TZOFFSETTO:+0200
TZNAME:CEST
DTSTART:20250330T010000
END:DAYLIGHT
BEGIN:STANDARD
TZOFFSETFROM:+0200
TZOFFSETTO:+0100
TZNAME:CET
DTSTART:20251026T010000
END:STANDARD
BEGIN:DAYLIGHT
TZOFFSETFROM:+0100
TZOFFSETTO:+0200
TZNAME:CEST
DTSTART:20260329T010000
END:DAYLIGHT
BEGIN:STANDARD
TZOFFSETFROM:+0200
TZOFFSETTO:+0100
TZNAME:CET
DTSTART:20261025T010000
END:STANDARD
BEGIN:DAYLIGHT
TZOFFSETFROM:+0100
TZOFFSETTO:+0200
TZNAME:CEST
DTSTART:20270328T010000
END:DAYLIGHT
BEGIN:STANDARD
TZOFFSETFROM:+0200
TZOFFSETTO:+0100
TZNAME:CET
DTSTART:20271031T010000
END:STANDARD
END:VTIMEZONE
BEGIN:VEVENT
DTSTART;TZID=Europe/Amsterdam:20260127T000000
DTEND;TZID=Europe/Amsterdam:20260130T235959
DTSTAMP:20260420T214632
CREATED:20250905T151646Z
LAST-MODIFIED:20250905T151707Z
UID:2470-1769472000-1769817599@rijnlandslyceumwassenaar.nl
SUMMARY:3 tto\, 4\, 5 vwo\, MYP5\, DP1 - THIMUN
DESCRIPTION:
URL:https://rijnlandslyceumwassenaar.nl/agenda/3-tto-4-5-vwo-myp5-dp1-thimun/
END:VEVENT
BEGIN:VEVENT
DTSTART;TZID=Europe/Amsterdam:20260128T170000
DTEND;TZID=Europe/Amsterdam:20260128T190000
DTSTAMP:20260420T214632
CREATED:20250905T152126Z
LAST-MODIFIED:20251231T125538Z
UID:2472-1769619600-1769626800@rijnlandslyceumwassenaar.nl
SUMMARY:MR-vergadering (3)
DESCRIPTION:
URL:https://rijnlandslyceumwassenaar.nl/agenda/mr-vergadering-3/
END:VEVENT
END:VCALENDAR